BEGIN:VCALENDAR
VERSION:2.0
BEGIN:VEVENT
URL:https://aula.escueladecuentacuentos.com/cursos/iniciacion-a-la-narracion-oral--cuentacuentos--41-2?edicion=61
DTSTART:20260429T183000
DTEND:20260430T063000
SUMMARY:La Escuela de Cuentacuentos - Iniciación a la narración oral (Cuentacuentos) Curso de Cuentacuentos online nivel iniciación
DESCRIPTION:Iniciación a la narración oral (Cuentacuentos)\n\n
LOCATION:
END:VEVENT
END:VCALENDAR